BEGIN:VCALENDAR
VERSION:2.0
PRODID:-//ChamberMaster//Event Calendar 2.0//EN
METHOD:PUBLISH
X-PUBLISHED-TTL:P1H
REFRESH-INTERVAL:P1H
CALSCALE:GREGORIAN
BEGIN:VTIMEZONE
TZID:America/New_York
BEGIN:DAYLIGHT
RRULE:FREQ=YEARLY;BYMONTH=3;BYDAY=2SU
DTSTART:20070101T000000
TZOFFSETFROM:-0500
TZOFFSETTO:-0400
TZNAME:Eastern Daylight Time
END:DAYLIGHT
BEGIN:STANDARD
RRULE:FREQ=YEARLY;BYMONTH=11;BYDAY=1SU
DTSTART:20070101T000000
TZOFFSETFROM:-0400
TZOFFSETTO:-0500
TZNAME:Eastern Standard Time
END:STANDARD
END:VTIMEZONE
BEGIN:VEVENT
DTSTART;TZID=America/New_York:20260417T090000
DTEND;TZID=America/New_York:20260417T160000
X-MICROSOFT-CDO-ALLDAYEVENT:FALSE
SUMMARY:** Canceled ** NAHB Using Contracts & Law to Protect Your Assets(Virtual Classes)
DESCRIPTION:** Canceled ** Protect your business against legal problems with well-written contracts. Many construction or remodeling companies are too small to hire full-time legal staff\, so it's important to understand basic contract law. This course provides a step-by-step explanation of how contracts sustain positive customer and supplier relations\, provide for resolution of disputes and minimize the risk of litigation. You will learn about mandatory and optional provisions\, warranties and arbitration procedures. Special emphasis is given to troubleshooting contracts for detrimental provisions.
X-ALT-DESC;FMTTYPE=text/html:<!DOCTYPE html><html><head><title></title></head><body aria-disabled="false"><p>** Canceled ** Protect your business against legal problems with well-written contracts. Many construction or remodeling companies are too small to hire full-time legal staff\, so it&rsquo\;s important to understand basic contract law. This course provides a step-by-step explanation of how contracts sustain positive customer and supplier relations\, provide for resolution of disputes and minimize the risk of litigation. You will learn about mandatory and optional provisions\, warranties and arbitration procedures. Special emphasis is given to troubleshooting contracts for detrimental provisions.</p></body></html>
LOCATION:
UID:e.2997.1374036
SEQUENCE:3
DTSTAMP:20260424T050216Z
URL:https://members.hbagta.com/event-calendar/Details/canceled-nahb-using-contracts-law-to-protect-your-assets-virtual-classes-1621969?sourceTypeId=Hub
END:VEVENT
END:VCALENDAR
